BEGIN:VCALENDAR
VERSION:2.0
PRODID:-//PPGEP - USP - ECPv6.14.2//NONSGML v1.0//EN
CALSCALE:GREGORIAN
METHOD:PUBLISH
X-WR-CALNAME:PPGEP - USP
X-ORIGINAL-URL:https://ppgep.poli.usp.br
X-WR-CALDESC:Eventos para PPGEP - USP
REFRESH-INTERVAL;VALUE=DURATION:PT1H
X-Robots-Tag:noindex
X-PUBLISHED-TTL:PT1H
BEGIN:VTIMEZONE
TZID:America/Sao_Paulo
BEGIN:STANDARD
TZOFFSETFROM:-0300
TZOFFSETTO:-0300
TZNAME:-03
DTSTART:20240101T000000
END:STANDARD
END:VTIMEZONE
BEGIN:VEVENT
DTSTART;TZID=America/Sao_Paulo:20240122T093000
DTEND;TZID=America/Sao_Paulo:20240122T140000
DTSTAMP:20260424T013515
CREATED:20231221T141811Z
LAST-MODIFIED:20240104T200203Z
UID:6571-1705915800-1705932000@ppgep.poli.usp.br
SUMMARY:Banca de Qualificação de Doutorado: Marcos Tadeu de Jesus  Barbosa
DESCRIPTION:Título do Trabalho: DEVELOPING DYNAMIC CAPABILITIES IN PROJECT-BASED ORGANIZATIONS \nCandidato (a): Marcos Tadeu de Jesus Barbosa \nOrientador: Profa. Dra. Marly Monteiro de Carvalho
URL:https://ppgep.poli.usp.br/agenda/banca-de-qualificacao-de-doutorado-marcos-tadeu-de-jesus-barbosa/
LOCATION:Online\, Online\, Virtual\, São Paulo\, 05508-010\, Brasil
CATEGORIES:Destaques
ORGANIZER;CN="PRO":MAILTO:cristianeprodrigues@usp.br
END:VEVENT
BEGIN:VEVENT
DTSTART;TZID=America/Sao_Paulo:20240123T090000
DTEND;TZID=America/Sao_Paulo:20240123T130000
DTSTAMP:20260424T013515
CREATED:20231003T135657Z
LAST-MODIFIED:20240123T130322Z
UID:6360-1706000400-1706014800@ppgep.poli.usp.br
SUMMARY:Banca de Defesa de Mestrado: Christian Fernando Cubillos
DESCRIPTION:Título do Trabalho: Experiência de mobilidade urbana no contexto do envelhecimento sob uma abordagem do Design Inclusivo  \nCandidato (a): Christian Fernando Cubillos  \nOrientador: Prof. Dr. Laerte Idal Sznelwar
URL:https://ppgep.poli.usp.br/agenda/banca-de-defesa-de-mestrado-christian-fernando-cubillos/
LOCATION:Online\, Online\, Virtual\, São Paulo\, 05508-010\, Brasil
CATEGORIES:Categoria Mais,Destaques
ORGANIZER;CN="PRO":MAILTO:cristianeprodrigues@usp.br
END:VEVENT
END:VCALENDAR